View In:
ArcGIS JavaScript
ArcGIS Online Map Viewer
ArcGIS Earth
ArcMap
View Footprint In:
ArcGIS Online Map Viewer
Service Description: gis_basis/nw_ow_swissalti_3d
Name: gis_basis/nw_ow_swissalti_3d
Description:
Single Fused Map Cache: false
Extent:
XMin: 2646000.9951225296
YMin: 1178000.5331512652
XMax: 2687000.9951225296
YMax: 1209000.5331512652
Spatial Reference: 2056
(2056)
Initial Extent:
XMin: 2646000.9951225296
YMin: 1178000.5331512652
XMax: 2687000.9951225296
YMax: 1209000.5331512652
Spatial Reference: 2056
(2056)
Full Extent:
XMin: 2646000.9951225296
YMin: 1178000.5331512652
XMax: 2687000.9951225296
YMax: 1209000.5331512652
Spatial Reference: 2056
(2056)
Pixel Size X: 2.0
Pixel Size Y: 2.0
Band Count: 1
Pixel Type: F32
RasterFunction Infos: {"rasterFunctionInfos": [{
"name": "None",
"description": "",
"help": ""
}]}
Mensuration Capabilities: Basic
Has Histograms: true
Has Colormap: false
Has Multi Dimensions : false
Rendering Rule:
Min Scale: 0
Max Scale: 0
Copyright Text:
Service Data Type: esriImageServiceDataTypeGeneric
Min Values: 429.989990234375
Max Values: 3238.050048828125
Mean Values: 1272.9561215986457
Standard Deviation Values: 575.7337337675024
Object ID Field:
Fields:
None
Default Mosaic Method: Center
Allowed Mosaic Methods:
SortField:
SortValue: null
Mosaic Operator: First
Default Compression Quality: 75
Default Resampling Method: Nearest
Max Record Count: null
Max Image Height: 4100
Max Image Width: 15000
Max Download Image Count: null
Max Mosaic Image Count: null
Allow Raster Function: true
Allow Copy: null
Allow Analysis: null
Allow Compute TiePoints: false
Supports Statistics: false
Supports Advanced Queries: false
Use StandardizedQueries: true
Raster Type Infos:
Name: Raster Dataset
Description: Supports all ArcGIS Raster Datasets
Help:
Has Raster Attribute Table: false
Edit Fields Info: null
Ownership Based AccessControl For Rasters: null
Child Resources:
Info
Histograms
Key Properties
Legend
Raster Function Infos
Supported Operations:
Export Image
Identify
Measure
Compute Histograms
Compute Statistics Histograms
Get Samples
Compute Class Statistics
Query Boundary
Compute Pixel Location
Validate
Project